BEGIN:VCALENDAR
VERSION:2.0
PRODID:-//Broad Town Parish Council - ECPv6.15.18//NONSGML v1.0//EN
CALSCALE:GREGORIAN
METHOD:PUBLISH
X-WR-CALNAME:Broad Town Parish Council
X-ORIGINAL-URL:https://www.broadtownparishcouncil.org.uk
X-WR-CALDESC:Events for Broad Town Parish Council
REFRESH-INTERVAL;VALUE=DURATION:PT1H
X-Robots-Tag:noindex
X-PUBLISHED-TTL:PT1H
BEGIN:VTIMEZONE
TZID:UTC
BEGIN:STANDARD
TZOFFSETFROM:+0000
TZOFFSETTO:+0000
TZNAME:UTC
DTSTART:20190101T000000
END:STANDARD
END:VTIMEZONE
BEGIN:VTIMEZONE
TZID:Europe/London
BEGIN:DAYLIGHT
TZOFFSETFROM:+0000
TZOFFSETTO:+0100
TZNAME:BST
DTSTART:20190331T010000
END:DAYLIGHT
BEGIN:STANDARD
TZOFFSETFROM:+0100
TZOFFSETTO:+0000
TZNAME:GMT
DTSTART:20191027T010000
END:STANDARD
BEGIN:DAYLIGHT
TZOFFSETFROM:+0000
TZOFFSETTO:+0100
TZNAME:BST
DTSTART:20200329T010000
END:DAYLIGHT
BEGIN:STANDARD
TZOFFSETFROM:+0100
TZOFFSETTO:+0000
TZNAME:GMT
DTSTART:20201025T010000
END:STANDARD
BEGIN:DAYLIGHT
TZOFFSETFROM:+0000
TZOFFSETTO:+0100
TZNAME:BST
DTSTART:20210328T010000
END:DAYLIGHT
BEGIN:STANDARD
TZOFFSETFROM:+0100
TZOFFSETTO:+0000
TZNAME:GMT
DTSTART:20211031T010000
END:STANDARD
END:VTIMEZONE
BEGIN:VEVENT
DTSTART;TZID=UTC:20200608T183000
DTEND;TZID=UTC:20200608T183000
DTSTAMP:20260419T211542
CREATED:20200601T065056Z
LAST-MODIFIED:20200601T125833Z
UID:1749-1591641000-1591641000@www.broadtownparishcouncil.org.uk
SUMMARY:Parish Council Meeting
DESCRIPTION:This meeting will be held online; please contact the Parish Clerk to attend.
URL:https://www.broadtownparishcouncil.org.uk/event/1749/
LOCATION:Online
CATEGORIES:Parish Council Meeting
END:VEVENT
BEGIN:VEVENT
DTSTART;TZID=Europe/London:20200511T183000
DTEND;TZID=Europe/London:20200511T183000
DTSTAMP:20260419T211542
CREATED:20200420T100813Z
LAST-MODIFIED:20200507T073647Z
UID:1337-1589221800-1589221800@www.broadtownparishcouncil.org.uk
SUMMARY:Parish Council Meeting
DESCRIPTION:This meeting will be held online; please contact the Parish Clerk to attend.
URL:https://www.broadtownparishcouncil.org.uk/event/parish-council-meeting/
LOCATION:Online
CATEGORIES:Parish Council Meeting
END:VEVENT
END:VCALENDAR